BEGIN:VCALENDAR
VERSION:2.0
PRODID:-//ESDV Footloose - ECPv6.15.20//NONSGML v1.0//EN
CALSCALE:GREGORIAN
METHOD:PUBLISH
X-WR-CALNAME:ESDV Footloose
X-ORIGINAL-URL:https://footloose.woflje.com
X-WR-CALDESC:Events for ESDV Footloose
REFRESH-INTERVAL;VALUE=DURATION:PT1H
X-Robots-Tag:noindex
X-PUBLISHED-TTL:PT1H
BEGIN:VTIMEZONE
TZID:Europe/Amsterdam
BEGIN:DAYLIGHT
TZOFFSETFROM:+0100
TZOFFSETTO:+0200
TZNAME:CEST
DTSTART:20250330T010000
END:DAYLIGHT
BEGIN:STANDARD
TZOFFSETFROM:+0200
TZOFFSETTO:+0100
TZNAME:CET
DTSTART:20251026T010000
END:STANDARD
BEGIN:DAYLIGHT
TZOFFSETFROM:+0100
TZOFFSETTO:+0200
TZNAME:CEST
DTSTART:20260329T010000
END:DAYLIGHT
BEGIN:STANDARD
TZOFFSETFROM:+0200
TZOFFSETTO:+0100
TZNAME:CET
DTSTART:20261025T010000
END:STANDARD
BEGIN:DAYLIGHT
TZOFFSETFROM:+0100
TZOFFSETTO:+0200
TZNAME:CEST
DTSTART:20270328T010000
END:DAYLIGHT
BEGIN:STANDARD
TZOFFSETFROM:+0200
TZOFFSETTO:+0100
TZNAME:CET
DTSTART:20271031T010000
END:STANDARD
END:VTIMEZONE
BEGIN:VEVENT
DTSTART;TZID=Europe/Amsterdam:20260424T080000
DTEND;TZID=Europe/Amsterdam:20260424T170000
DTSTAMP:20260422T182352
CREATED:20260422T144654Z
LAST-MODIFIED:20260422T155517Z
UID:168-1777017600-1777050000@footloose.woflje.com
SUMMARY:Some activity from the AC
DESCRIPTION:awefawef \n \nNumberSubmit
URL:https://footloose.woflje.com/event/some-activity-from-the-ac/
ATTACH;FMTTYPE=image/jpeg:https://footloose.woflje.com/wp-content/uploads/2026/04/P1111062-2-scaled.jpg
END:VEVENT
END:VCALENDAR